BEGIN:VCALENDAR
VERSION:2.0
PRODID:-//Cultuurfabriek Voorschoten - ECPv6.15.20//NONSGML v1.0//EN
CALSCALE:GREGORIAN
METHOD:PUBLISH
X-WR-CALNAME:Cultuurfabriek Voorschoten
X-ORIGINAL-URL:https://www.cultuurfabriekvoorschoten.nl
X-WR-CALDESC:Evenementen voor Cultuurfabriek Voorschoten
REFRESH-INTERVAL;VALUE=DURATION:PT1H
X-Robots-Tag:noindex
X-PUBLISHED-TTL:PT1H
BEGIN:VTIMEZONE
TZID:Europe/Amsterdam
BEGIN:DAYLIGHT
TZOFFSETFROM:+0100
TZOFFSETTO:+0200
TZNAME:CEST
DTSTART:20240331T010000
END:DAYLIGHT
BEGIN:STANDARD
TZOFFSETFROM:+0200
TZOFFSETTO:+0100
TZNAME:CET
DTSTART:20241027T010000
END:STANDARD
BEGIN:DAYLIGHT
TZOFFSETFROM:+0100
TZOFFSETTO:+0200
TZNAME:CEST
DTSTART:20250330T010000
END:DAYLIGHT
BEGIN:STANDARD
TZOFFSETFROM:+0200
TZOFFSETTO:+0100
TZNAME:CET
DTSTART:20251026T010000
END:STANDARD
BEGIN:DAYLIGHT
TZOFFSETFROM:+0100
TZOFFSETTO:+0200
TZNAME:CEST
DTSTART:20260329T010000
END:DAYLIGHT
BEGIN:STANDARD
TZOFFSETFROM:+0200
TZOFFSETTO:+0100
TZNAME:CET
DTSTART:20261025T010000
END:STANDARD
END:VTIMEZONE
BEGIN:VEVENT
DTSTART;TZID=Europe/Amsterdam:20250409T130000
DTEND;TZID=Europe/Amsterdam:20250706T170000
DTSTAMP:20260421T114442
CREATED:20250329T140552Z
LAST-MODIFIED:20250329T140759Z
UID:17669-1744203600-1751821200@www.cultuurfabriekvoorschoten.nl
SUMMARY:Tentoonstelling '80 jaar vrij!'
DESCRIPTION:Vanaf 9 april is de tentoonstelling ’80 jaar vrij! Bevrijding\, herdenken en vieren in Voorschoten’ te bezoeken. Met deze expositie blikt het museum terug op de Tweede Wereldoorlog en de bevrijding\, en vertelt hoe sindsdien de oorlog is herdacht en Bevrijdingsdag is gevierd. De focus ligt hierbij op Voorschoten\, maar de gebeurtenissen worden ook in een bredere context geplaatst. \nHet begrip ‘vrijheid’ speelt een centrale rol in de tentoonstelling.
URL:https://www.cultuurfabriekvoorschoten.nl/evenement/tentoonstelling-80-jaar-vrij/
LOCATION:Museum Voorschoten\, Voorstraat 17\, Voorschoten\, Zuid-Holland\, 2251 BL\, Netherlands
CATEGORIES:Tentoonstelling
ATTACH;FMTTYPE=image/jpeg:https://www.cultuurfabriekvoorschoten.nl/wp-content/uploads/2025/03/nieuwe-tegel-website-met-80-jaar-002.jpg
ORGANIZER;CN="Museum Voorschoten":MAILTO:info@museumvoorschoten.nl
END:VEVENT
BEGIN:VEVENT
DTSTART;TZID=Europe/Amsterdam:20250708T200000
DTEND;TZID=Europe/Amsterdam:20250708T200000
DTSTAMP:20260421T114442
CREATED:20250110T130846Z
LAST-MODIFIED:20250212T094031Z
UID:17109-1752004800-1752004800@www.cultuurfabriekvoorschoten.nl
SUMMARY:Farkas Wind Quintet: fluit\, hoorn\, klarinet\, fagot en hobo
DESCRIPTION:Het Farkas Wind Quintet bestaat uit vijf muziekvrienden voor het leven die al meer dan 25 jaar in hun liefde voor de blaaskwintetmuziek samen spelen. Ze zijn allemaal werkzaam bij grote orkesten\, maar ondanks hun drukke banen en overlappende agenda’s zoeken ze altijd naar de schaarse mogelijkheid om als kwintet op te treden. Omdat ze er plezier in hebben. En dat is te horen!
URL:https://www.cultuurfabriekvoorschoten.nl/evenement/farkas-wind-quintet-fluit-hoorn-klarinet-fagot-en-hobo/
LOCATION:Dorpskerk Voorschoten\, Kerkplein 2\, Voorschoten\, 2251 BS\, Netherlands
CATEGORIES:Concert
ATTACH;FMTTYPE=image/jpeg:https://www.cultuurfabriekvoorschoten.nl/wp-content/uploads/2025/01/Farkas-Wind-Quintet-1024x1024-1.jpg
END:VEVENT
BEGIN:VEVENT
DTSTART;TZID=Europe/Amsterdam:20250716T130000
DTEND;TZID=Europe/Amsterdam:20250817T170000
DTSTAMP:20260421T114442
CREATED:20250623T091401Z
LAST-MODIFIED:20250623T091401Z
UID:18140-1752670800-1755450000@www.cultuurfabriekvoorschoten.nl
SUMMARY:Expositie 'Beestachtig'
DESCRIPTION:Veel nieuwe kunst en nieuwe kunstenaars in Voorschoten \nDe zomerexpositie van de Voorschotense Kunstkring (VKK) in Museum Voorschoten telt een groot aantal deelnemers\, die nog niet eerder in het dorp exposeerden. Zo kunt u onder meer kennis maken met werken van drie kunstenaars\, die kort geleden lid zijn geworden en van acht leden van de met de VKK bevriende Kunstgroep Wassenaar (KGW). Daarnaast doen veertien ‘oudgedienden’ mee. Het thema dat het werk van alle 25 deelnemers verbindt\, is ‘Beestachtig’\, dat vaak heel verrassend geïnterpreteerd wordt -van confronterend tot inspirerend- en alleen daarom al een (gratis) bezoek aan de tentoonstelling meer dan rechtvaardigt. \nHet thema is niet willekeurig gekozen. Midden in de expositieperiode vallen de Voorschotense paardendagen. Op 26 juli tijdens de Paardenmarkt zal de tentoonstelling  daarom extra lang -van 10 tot 17 uur- geopend zijn. Bovendien zal op zondag 27 juli tussen 16 en 17 uur een aantal kunstenaars worden geïnterviewd door journalist en plaatsgenoot Otti Thomas over hun beweegredenen. De normale openingstijden zijn woensdag t/m zondag van 13 tot 17 uur.  Voor een voorproefje kunt u nu al terecht op www.voorschotensekunstkring.nl (doorklikken op EXPOSITIES\, huidige expositie). U vindt daar in de galerie foto’s van verschillende werken\, die u in het echt in het museum kunt gaan zien. \nKunstenaar zelf spreken? \nDe deelnemende kunstenaars zijn (bijna) allemaal één of meer keren bij de expositie aanwezig. Zeker bij de officiële opening op zaterdag 19 juli om 16 uur door voorzitter Otto Altmann van KGW  en sluiting op zondag 17 augustus tegen 17 uur is er grote kans dat u de maker van een kunstwerk\, dat u aanspreekt\, tegen het lijf kunt lopen. En informeert u anders bij een bezoek op één van eerste dagen van de tentoonstelling naar de zogenaamde zitlijst\, waarop u precies kunt zien of en zo ja wanneer uw favoriete kunstenaar bij de tentoonstelling aanwezig is. \nHarm Kamerlingh Onnes (1893-1985) \nDit jaar is het ook veertig jaar geleden dat het beroemde VKK-lid Harm Kamerlingh Onnes overleed. Ter gelegenheid daarvan worden tijdens de tentoonstelling ook kortgeleden teruggevonden sets met 10 door hem vervaardigde kunstkaarten verkocht. De in 1973  uitgegeven sets\, werden destijds vervaardigd ter gelegenheid van een door de gemeente Voorschoten aan hem aangeboden expositie in verband met zijn 80e verjaardag.
URL:https://www.cultuurfabriekvoorschoten.nl/evenement/expositie-beestachtig/
LOCATION:Museum Voorschoten\, Voorstraat 17\, Voorschoten\, Zuid-Holland\, 2251 BL\, Netherlands
CATEGORIES:Tentoonstelling
ATTACH;FMTTYPE=image/png:https://www.cultuurfabriekvoorschoten.nl/wp-content/uploads/2025/06/Afbeelding8.png?t=1776764682
END:VEVENT
END:VCALENDAR