BEGIN:VCALENDAR
VERSION:2.0
PRODID:-//Cultuurfabriek Voorschoten - ECPv6.15.20//NONSGML v1.0//EN
CALSCALE:GREGORIAN
METHOD:PUBLISH
X-WR-CALNAME:Cultuurfabriek Voorschoten
X-ORIGINAL-URL:https://www.cultuurfabriekvoorschoten.nl
X-WR-CALDESC:Evenementen voor Cultuurfabriek Voorschoten
REFRESH-INTERVAL;VALUE=DURATION:PT1H
X-Robots-Tag:noindex
X-PUBLISHED-TTL:PT1H
BEGIN:VTIMEZONE
TZID:Europe/Amsterdam
BEGIN:DAYLIGHT
TZOFFSETFROM:+0100
TZOFFSETTO:+0200
TZNAME:CEST
DTSTART:20240331T010000
END:DAYLIGHT
BEGIN:STANDARD
TZOFFSETFROM:+0200
TZOFFSETTO:+0100
TZNAME:CET
DTSTART:20241027T010000
END:STANDARD
BEGIN:DAYLIGHT
TZOFFSETFROM:+0100
TZOFFSETTO:+0200
TZNAME:CEST
DTSTART:20250330T010000
END:DAYLIGHT
BEGIN:STANDARD
TZOFFSETFROM:+0200
TZOFFSETTO:+0100
TZNAME:CET
DTSTART:20251026T010000
END:STANDARD
BEGIN:DAYLIGHT
TZOFFSETFROM:+0100
TZOFFSETTO:+0200
TZNAME:CEST
DTSTART:20260329T010000
END:DAYLIGHT
BEGIN:STANDARD
TZOFFSETFROM:+0200
TZOFFSETTO:+0100
TZNAME:CET
DTSTART:20261025T010000
END:STANDARD
END:VTIMEZONE
BEGIN:VEVENT
DTSTART;TZID=Europe/Amsterdam:20250409T130000
DTEND;TZID=Europe/Amsterdam:20250706T170000
DTSTAMP:20260421T140250
CREATED:20250329T140552Z
LAST-MODIFIED:20250329T140759Z
UID:17669-1744203600-1751821200@www.cultuurfabriekvoorschoten.nl
SUMMARY:Tentoonstelling '80 jaar vrij!'
DESCRIPTION:Vanaf 9 april is de tentoonstelling ’80 jaar vrij! Bevrijding\, herdenken en vieren in Voorschoten’ te bezoeken. Met deze expositie blikt het museum terug op de Tweede Wereldoorlog en de bevrijding\, en vertelt hoe sindsdien de oorlog is herdacht en Bevrijdingsdag is gevierd. De focus ligt hierbij op Voorschoten\, maar de gebeurtenissen worden ook in een bredere context geplaatst. \nHet begrip ‘vrijheid’ speelt een centrale rol in de tentoonstelling.
URL:https://www.cultuurfabriekvoorschoten.nl/evenement/tentoonstelling-80-jaar-vrij/
LOCATION:Museum Voorschoten\, Voorstraat 17\, Voorschoten\, Zuid-Holland\, 2251 BL\, Netherlands
CATEGORIES:Tentoonstelling
ATTACH;FMTTYPE=image/jpeg:https://www.cultuurfabriekvoorschoten.nl/wp-content/uploads/2025/03/nieuwe-tegel-website-met-80-jaar-002.jpg
ORGANIZER;CN="Museum Voorschoten":MAILTO:info@museumvoorschoten.nl
END:VEVENT
BEGIN:VEVENT
DTSTART;VALUE=DATE:20250521
DTEND;VALUE=DATE:20250616
DTSTAMP:20260421T140250
CREATED:20250509T081019Z
LAST-MODIFIED:20250509T082952Z
UID:17871-1747785600-1750031999@www.cultuurfabriekvoorschoten.nl
SUMMARY:De Boschbloem exposeert werken van haar leden
DESCRIPTION:Van dinsdag 21 mei tot en met 15 juni 2025 exposeert de Boschbloem 40 werken van haar tekencursisten in de bibliotheek van Voorschoten.  Het is een mooie en kleurrijke expositie waar tekeningen\, portretten\, stillevens\, aqualeren en meer te zien zijn. Allemaal werken die de cursisten in de afgelopen twee jaar hebben gemaakt. Kom kijken en laat je verrassen! \nKom tijdens de bibliotheek openingsuren kijken bij de GalerieBieb\, Wijngaardenlaan 4\, 2252XN Voorschoten.
URL:https://www.cultuurfabriekvoorschoten.nl/evenement/de-boschbloem-exposeert-werken-van-haar-leden/
LOCATION:Bibliotheek Voorschoten\, Wijngaardenlaan 4\, Voorschoten.\, 2252XN
CATEGORIES:Tentoonstelling
ATTACH;FMTTYPE=image/jpeg:https://www.cultuurfabriekvoorschoten.nl/wp-content/uploads/2025/05/Flyer-A5-Galerie-Bieb-2025.jpg
ORGANIZER;CN="Buurthuis de Boschbloem":MAILTO:info@boschbloem.nl
END:VEVENT
BEGIN:VEVENT
DTSTART;TZID=Europe/Amsterdam:20250604T200000
DTEND;TZID=Europe/Amsterdam:20250604T220000
DTSTAMP:20260421T140250
CREATED:20250530T073619Z
LAST-MODIFIED:20250530T073646Z
UID:18021-1749067200-1749074400@www.cultuurfabriekvoorschoten.nl
SUMMARY:Musica Antica - De traverso bij de Bachs
DESCRIPTION:HOOGTEPUNTEN VOOR TRAVERSO \nIn de muzikale heksenketel van het gezin van Johann Sebastian Bach werd veel samen gemusiceerd. Vaak schreef vader J.S. ’n speciale virtuoze partij voor een bezoekende musicus of zanger. Speciaal Bachs traversosonates zijn een hoogtepunt in het fluitrepertoire. En Bachs zonen luisterden daar goed naar en gaven er daarna een heel eigen draai aan!
URL:https://www.cultuurfabriekvoorschoten.nl/evenement/de-traverso-bij-de-bachs/
LOCATION:Kasteel Duivenvoorde\, Laan van Duivenvoorde 4\, Voorschoten\, 2516 BE\, Netherlands
CATEGORIES:Concert
ATTACH;FMTTYPE=image/jpeg:https://www.cultuurfabriekvoorschoten.nl/wp-content/uploads/2025/05/slider_Ada_Perez_en_Tim_Veldman_voor_OMD2.jpg
ORGANIZER;CN="Musica Antica":MAILTO:office@musantica.nl
END:VEVENT
BEGIN:VEVENT
DTSTART;TZID=Europe/Amsterdam:20250610T200000
DTEND;TZID=Europe/Amsterdam:20250610T200000
DTSTAMP:20260421T140250
CREATED:20250110T130846Z
LAST-MODIFIED:20250213T074134Z
UID:17104-1749585600-1749585600@www.cultuurfabriekvoorschoten.nl
SUMMARY:Arethusa Quartet
DESCRIPTION:Het Arethusa Quartet behoort tot de top strijkkwartetten in Nederland. De leden zijn internationaal gelouterde musici. Ze koesteren een diepe vriendschap voor elkaar en combineren in hun concerten hun grote fantasie en creativiteit met een betoverende intensiteit. Op het programma staat het enige (voltooide) strijkkwartet van Edward Grieg en na pauze het Strijkkwartet op. 132 van Beethoven.
URL:https://www.cultuurfabriekvoorschoten.nl/evenement/arethusa-quartet/
LOCATION:Dorpskerk Voorschoten\, Kerkplein 2\, Voorschoten\, 2251 BS\, Netherlands
CATEGORIES:Concert
ATTACH;FMTTYPE=image/jpeg:https://www.cultuurfabriekvoorschoten.nl/wp-content/uploads/2025/01/Arethusa-Quartet-1024x1024-1.jpg
END:VEVENT
BEGIN:VEVENT
DTSTART;TZID=Europe/Amsterdam:20250615T160000
DTEND;TZID=Europe/Amsterdam:20250615T180000
DTSTAMP:20260421T140250
CREATED:20250514T085529Z
LAST-MODIFIED:20250514T085831Z
UID:17906-1750003200-1750010400@www.cultuurfabriekvoorschoten.nl
SUMMARY:Vox Clara - Carmina Burana
DESCRIPTION:Vox Clara zingt en speelt de Carmina Burana van Orff \nVocaal ensemble Vox Clara olv Maria Rosenmöller zal op zondag 15 juni om 16.00 uur de Carmina Burana van Carl Orff uitvoeren in de Dorpskerk in Voorschoten. \nDe Carmina Burana van Carl Orff (1895-1982) ging in 1937 in première in Frankfurt. Het was een tijd van politieke en maatschappelijke crisis waarin Europa afstevende op de Tweede Wereldoorlog. De viering van 80 jaar Vrijheid dit jaar en de gespannen geo-politieke situatie maken het werk uiterst actueel. De betekenis van de Latijnse naam is ‘liederen uit Beuern’. Het dorp Beuern (in Beieren) heet eigenlijk Benediktbeuern\, naar het benedictijnenklooster waar tot 1803 monniken woonden. Orff selecteerde een aantal wereldlijke liederen uit het middeleeuwse handschrift Carmina Burana en schreef er zijn eigen muziek bij. Naast de muziek schreef hij ook het lichtprogramma. \nOrff stelt in dit stuk het leven voor als een Rad van Fortuin\, een middeleeuws concept dat de wisselvalligheid van het leven verbeeldt. Het is een wiel dat aangestuurd wordt door Vrouwe Fortuna. Terwijl het in de middeleeuwen ook als religieus-morele les over vergankelijkheid gold\, ziet Orff dit wereldser. Pluk vooral de dag\, want je weet nooit wat de morgen brengt. Het eerste deel van de compositie ‘In de Lente’ bestaat uit liefdesliederen. Daarna volgt het deel ‘In de Taverne’ met drank- en gokliederen. Het derde deel ‘In de hof der liefde’ gaat over de zinnelijke liefde. Het geheel wordt voorafgegaan en besloten door een krachtige hymne aan Fortuna\, de godin van het lot. Dit ‘O Fortuna’ is het bekendste deel van de Carmina Burana en wordt ook vaak apart uitgevoerd. \nCarl Orff was als componist niet onomstreden. Hij schreef in 1936 de Festmusik voor de Olympische spelen in Berlijn en dit evenement werd door de Duitse overheid gebruikt voor nationaal-socialistische propaganda. De Carmina Burana werd door de nazi’s niet verboden. Het werk groeide na de oorlog in populariteit en staat inmiddels bekend als een van de belangrijkste koorwerken uit de 20ste eeuw. \nVox Clara voert de Carmina uit in de originele versie met beperkte instrumentele bezetting en half-scenisch. Medewerking wordt verleend door de Voorschotens pianist Hans Schellevis en de slagwerkers Miro Herak en Stephen Eelhart. \nTickets voor het concert (volwassenen 15 euro; kinderen t/m 18 gratis) zijn verkrijgbaar via www.voxclara.nl of aan de zaal.
URL:https://www.cultuurfabriekvoorschoten.nl/evenement/vox-clara-carmina-burana/
LOCATION:Dorpskerk Voorschoten\, Kerkplein 2\, Voorschoten\, 2251 BS\, Netherlands
CATEGORIES:Concert
ATTACH;FMTTYPE=image/jpeg:https://www.cultuurfabriekvoorschoten.nl/wp-content/uploads/2025/05/Poster-Carmina-Burana-DEF.jpg
END:VEVENT
BEGIN:VEVENT
DTSTART;TZID=Europe/Amsterdam:20250615T200000
DTEND;TZID=Europe/Amsterdam:20250615T213000
DTSTAMP:20260421T140250
CREATED:20250419T173128Z
LAST-MODIFIED:20250423T132140Z
UID:17797-1750017600-1750023000@www.cultuurfabriekvoorschoten.nl
SUMMARY:Laurentiusorgelconcert met Gertine Hoefnagel en Mirjam van den Hoek
DESCRIPTION:15 juni – Gertine Hoefnagel (orgel) en Mirjam van den Hoek (sopraan) \nOrgelconcert door Gertine Hoefnagel samen met Mirjam van den Hoek (sopraan). Gertine is de nieuwe cantrix van de Protestantse Gemeente Voorschoten. Mirjam zingt als gastzanger in professionele koren en is vaste zanger bij de Laurenscantorij in Rotterdam. Daarnaast  dirigeert ze vier andere koren en ensembles.
URL:https://www.cultuurfabriekvoorschoten.nl/evenement/laurentiusorgelconcert-met-gertine-hoefnagel-en-mirjam-van-den-hoek/
LOCATION:H. Laurentius Kerk\, Leidseweg 102\, Voorschoten\, Zuid-Holland\, 2251 LG\, Netherlands
CATEGORIES:Concert
ATTACH;FMTTYPE=image/jpeg:https://www.cultuurfabriekvoorschoten.nl/wp-content/uploads/2025/04/Affiche-15juni2025.jpg
END:VEVENT
BEGIN:VEVENT
DTSTART;TZID=Europe/Amsterdam:20250621T193000
DTEND;TZID=Europe/Amsterdam:20250621T220000
DTSTAMP:20260421T140250
CREATED:20250515T124150Z
LAST-MODIFIED:20250515T124800Z
UID:17916-1750534200-1750543200@www.cultuurfabriekvoorschoten.nl
SUMMARY:Zomerconcert Sinfonietta Voorschoten
DESCRIPTION:Op zaterdag 21 juni 2025 trakteert Sinfonietta Voorschoten u op een gevarieerd muzikaal programma. Onder leiding van onze dirigent Aikaterini Sampakou spelen we werken van Offenbach\, Glazunov\, Grieg en klinkt de 2e symfonie van Ludwig van Beethoven. \nKoop nu uw kaarten en profiteer van de voorverkoopkorting. Voorverkoop via de QR code op de flyer of ga naar https://www.ticketkantoor.nl/shop/JUN25SV \nGraag tot ziens bij ons zomerconcert.
URL:https://www.cultuurfabriekvoorschoten.nl/evenement/zomerconcert-sinfonietta-voorschoten/
LOCATION:Het Kruispunt\, Schoolstraat 2\, Voorschoten\, 2251 BH\, Netherlands
CATEGORIES:Concert,Optreden
ATTACH;FMTTYPE=image/jpeg:https://www.cultuurfabriekvoorschoten.nl/wp-content/uploads/2025/05/flyer-scaled.jpg
END:VEVENT
BEGIN:VEVENT
DTSTART;TZID=Europe/Amsterdam:20250621T200000
DTEND;TZID=Europe/Amsterdam:20250621T210000
DTSTAMP:20260421T140250
CREATED:20250530T150346Z
LAST-MODIFIED:20250530T172352Z
UID:18041-1750536000-1750539600@www.cultuurfabriekvoorschoten.nl
SUMMARY:Zomerconcert van The Broken Consort
DESCRIPTION:Op zaterdag 21 juni om 20.00 uur zal het ensemble voor oude muziek The Broken Consort een concert geven in het Bondsgebouw aan de Leidseweg 100 in Voorschoten. \nHet ensemble brengt met 14 musici een gevarieerd programma met werken van de componisten Dieupart\, Delalande\, De Fesch\, Schmelzer\, Froberger en Telemann. \nDe muzikale leiding is in handen van Eduardo Proença. \nHet programma duurt ongeveer een uur en daarna is er tijd voor een drankje. De toegang is vrij\, maar een vrijwillige bijdrage wordt op prijs gesteld.
URL:https://www.cultuurfabriekvoorschoten.nl/evenement/zomerconcert-van-the-broken-consort/
LOCATION:Bondsgebouw\, Leidseweg 100\, Voorschoten\, Netherlands
CATEGORIES:Concert
ATTACH;FMTTYPE=image/jpeg:https://www.cultuurfabriekvoorschoten.nl/wp-content/uploads/2025/05/flyer-BC-21-juni-25.jpg
END:VEVENT
END:VCALENDAR