BEGIN:VCALENDAR
VERSION:2.0
PRODID:-//Cultuurfabriek Voorschoten - ECPv6.15.20//NONSGML v1.0//EN
CALSCALE:GREGORIAN
METHOD:PUBLISH
X-WR-CALNAME:Cultuurfabriek Voorschoten
X-ORIGINAL-URL:https://www.cultuurfabriekvoorschoten.nl
X-WR-CALDESC:Evenementen voor Cultuurfabriek Voorschoten
REFRESH-INTERVAL;VALUE=DURATION:PT1H
X-Robots-Tag:noindex
X-PUBLISHED-TTL:PT1H
BEGIN:VTIMEZONE
TZID:Europe/Amsterdam
BEGIN:DAYLIGHT
TZOFFSETFROM:+0100
TZOFFSETTO:+0200
TZNAME:CEST
DTSTART:20250330T010000
END:DAYLIGHT
BEGIN:STANDARD
TZOFFSETFROM:+0200
TZOFFSETTO:+0100
TZNAME:CET
DTSTART:20251026T010000
END:STANDARD
BEGIN:DAYLIGHT
TZOFFSETFROM:+0100
TZOFFSETTO:+0200
TZNAME:CEST
DTSTART:20260329T010000
END:DAYLIGHT
BEGIN:STANDARD
TZOFFSETFROM:+0200
TZOFFSETTO:+0100
TZNAME:CET
DTSTART:20261025T010000
END:STANDARD
BEGIN:DAYLIGHT
TZOFFSETFROM:+0100
TZOFFSETTO:+0200
TZNAME:CEST
DTSTART:20270328T010000
END:DAYLIGHT
BEGIN:STANDARD
TZOFFSETFROM:+0200
TZOFFSETTO:+0100
TZNAME:CET
DTSTART:20271031T010000
END:STANDARD
END:VTIMEZONE
BEGIN:VEVENT
DTSTART;TZID=Europe/Amsterdam:20261114T200000
DTEND;TZID=Europe/Amsterdam:20261114T200000
DTSTAMP:20260419T202126
CREATED:20250920T192659Z
LAST-MODIFIED:20250920T193034Z
UID:18779-1794686400-1794686400@www.cultuurfabriekvoorschoten.nl
SUMMARY:PJPJ Jazzconcert
DESCRIPTION:Maandelijks (september-april) organiseert Podium Jong Professionals Jazz (PJPJ) sprankelende jazzconcerten met getalenteerde jonge jazzprofessionals van het Koninklijk Conservatorium Den Haag. In mei pakt PJPJ uit met een intiem JazzFest\, waar naast jong jazztalent van de School voor Jong Talent ook jazzstudenten van het Koninklijk Conservatorium Den Haag en ervaren jazzmusici optreden. De concerten bieden de jonge jazzprofessionals een unieke kans om podiumervaring op te doen in een bijzondere concertsetting. \nWie er komen optreden wordt bekendgemaakt in juli/augustus 2026.
URL:https://www.cultuurfabriekvoorschoten.nl/evenement/pjpj-jazzconcert-3/
LOCATION:Cultureel Centrum Voorschoten\, Prinses Marijkelaan 4\, Voorschoten\, Zuid-Holland\, 2252 HH\, Netherlands
CATEGORIES:Concert
ATTACH;FMTTYPE=image/jpeg:https://www.cultuurfabriekvoorschoten.nl/wp-content/uploads/2025/09/sfeerfoto-concert-4-11-2023-1600x-2.jpg
ORGANIZER;CN="Podium Jong Professionals Jazz":MAILTO:secretaris@pjpj.nl
END:VEVENT
BEGIN:VEVENT
DTSTART;TZID=Europe/Amsterdam:20261128T200000
DTEND;TZID=Europe/Amsterdam:20261128T223000
DTSTAMP:20260419T202126
CREATED:20250914T122504Z
LAST-MODIFIED:20250914T122504Z
UID:18661-1795896000-1795905000@www.cultuurfabriekvoorschoten.nl
SUMMARY:Concert Voorschotens Kamerkoor en Sinfonietta Voorschoten
DESCRIPTION:Het Voorschotens Kamerkoor en Sinfonietta Voorschoten bieden u samen een prachtig concert aan.
URL:https://www.cultuurfabriekvoorschoten.nl/evenement/concert-voorschotens-kamerkoor-en-sinfonietta-voorschoten/
LOCATION:Bondsgebouw\, Leidseweg 100\, Voorschoten\, Netherlands
CATEGORIES:Concert
ATTACH;FMTTYPE=image/jpeg:https://www.cultuurfabriekvoorschoten.nl/wp-content/uploads/2025/09/IMG_3525-scaled.jpg
END:VEVENT
BEGIN:VEVENT
DTSTART;TZID=Europe/Amsterdam:20261212T200000
DTEND;TZID=Europe/Amsterdam:20261212T200000
DTSTAMP:20260419T202126
CREATED:20250920T192753Z
LAST-MODIFIED:20250920T193002Z
UID:18784-1797105600-1797105600@www.cultuurfabriekvoorschoten.nl
SUMMARY:PJPJ Jazzconcert
DESCRIPTION:Maandelijks (september-april) organiseert Podium Jong Professionals Jazz (PJPJ) sprankelende jazzconcerten met getalenteerde jonge jazzprofessionals van het Koninklijk Conservatorium Den Haag. In mei pakt PJPJ uit met een intiem JazzFest\, waar naast jong jazztalent van de School voor Jong Talent ook jazzstudenten van het Koninklijk Conservatorium Den Haag en ervaren jazzmusici optreden. De concerten bieden de jonge jazzprofessionals een unieke kans om podiumervaring op te doen in een bijzondere concertsetting. \nWie er komen optreden wordt bekendgemaakt in juli/augustus 2026.
URL:https://www.cultuurfabriekvoorschoten.nl/evenement/pjpj-jazzconcert-4/
LOCATION:Cultureel Centrum Voorschoten\, Prinses Marijkelaan 4\, Voorschoten\, Zuid-Holland\, 2252 HH\, Netherlands
CATEGORIES:Concert
ATTACH;FMTTYPE=image/jpeg:https://www.cultuurfabriekvoorschoten.nl/wp-content/uploads/2025/09/sfeerfoto-concert-4-11-2023-1600x-3.jpg
ORGANIZER;CN="Podium Jong Professionals Jazz":MAILTO:secretaris@pjpj.nl
END:VEVENT
BEGIN:VEVENT
DTSTART;TZID=Europe/Amsterdam:20261219T200000
DTEND;TZID=Europe/Amsterdam:20261219T220000
DTSTAMP:20260419T202126
CREATED:20250917T174016Z
LAST-MODIFIED:20260223T162426Z
UID:18725-1797710400-1797717600@www.cultuurfabriekvoorschoten.nl
SUMMARY:Kerstconcert - Vox Clara
DESCRIPTION:Kerstconcert van Vox Clara\, vrolijke en verstilde liederen rond de aankondiging en de geboorte.
URL:https://www.cultuurfabriekvoorschoten.nl/evenement/kerstconcert-2/
LOCATION:Dorpskerk Voorschoten\, Kerkplein 2\, Voorschoten\, 2251 BS\, Netherlands
ATTACH;FMTTYPE=image/jpeg:https://www.cultuurfabriekvoorschoten.nl/wp-content/uploads/2025/09/0bfbf07c-8653-478c-9f1b-c03e0a2f6cc3.jpeg
END:VEVENT
END:VCALENDAR