BEGIN:VCALENDAR
VERSION:2.0
PRODID:-//Cultuurfabriek Voorschoten - ECPv6.15.20//NONSGML v1.0//EN
CALSCALE:GREGORIAN
METHOD:PUBLISH
X-WR-CALNAME:Cultuurfabriek Voorschoten
X-ORIGINAL-URL:https://www.cultuurfabriekvoorschoten.nl
X-WR-CALDESC:Evenementen voor Cultuurfabriek Voorschoten
REFRESH-INTERVAL;VALUE=DURATION:PT1H
X-Robots-Tag:noindex
X-PUBLISHED-TTL:PT1H
BEGIN:VTIMEZONE
TZID:Europe/Amsterdam
BEGIN:DAYLIGHT
TZOFFSETFROM:+0100
TZOFFSETTO:+0200
TZNAME:CEST
DTSTART:20250330T010000
END:DAYLIGHT
BEGIN:STANDARD
TZOFFSETFROM:+0200
TZOFFSETTO:+0100
TZNAME:CET
DTSTART:20251026T010000
END:STANDARD
BEGIN:DAYLIGHT
TZOFFSETFROM:+0100
TZOFFSETTO:+0200
TZNAME:CEST
DTSTART:20260329T010000
END:DAYLIGHT
BEGIN:STANDARD
TZOFFSETFROM:+0200
TZOFFSETTO:+0100
TZNAME:CET
DTSTART:20261025T010000
END:STANDARD
BEGIN:DAYLIGHT
TZOFFSETFROM:+0100
TZOFFSETTO:+0200
TZNAME:CEST
DTSTART:20270328T010000
END:DAYLIGHT
BEGIN:STANDARD
TZOFFSETFROM:+0200
TZOFFSETTO:+0100
TZNAME:CET
DTSTART:20271031T010000
END:STANDARD
END:VTIMEZONE
BEGIN:VEVENT
DTSTART;TZID=Europe/Amsterdam:20261128T200000
DTEND;TZID=Europe/Amsterdam:20261128T223000
DTSTAMP:20260419T201156
CREATED:20250914T122504Z
LAST-MODIFIED:20250914T122504Z
UID:18661-1795896000-1795905000@www.cultuurfabriekvoorschoten.nl
SUMMARY:Concert Voorschotens Kamerkoor en Sinfonietta Voorschoten
DESCRIPTION:Het Voorschotens Kamerkoor en Sinfonietta Voorschoten bieden u samen een prachtig concert aan.
URL:https://www.cultuurfabriekvoorschoten.nl/evenement/concert-voorschotens-kamerkoor-en-sinfonietta-voorschoten/
LOCATION:Bondsgebouw\, Leidseweg 100\, Voorschoten\, Netherlands
CATEGORIES:Concert
ATTACH;FMTTYPE=image/jpeg:https://www.cultuurfabriekvoorschoten.nl/wp-content/uploads/2025/09/IMG_3525-scaled.jpg
END:VEVENT
END:VCALENDAR