BEGIN:VCALENDAR
VERSION:2.0
PRODID:-//Cultuurfabriek Voorschoten - ECPv6.15.20//NONSGML v1.0//EN
CALSCALE:GREGORIAN
METHOD:PUBLISH
X-ORIGINAL-URL:https://www.cultuurfabriekvoorschoten.nl
X-WR-CALDESC:Evenementen voor Cultuurfabriek Voorschoten
REFRESH-INTERVAL;VALUE=DURATION:PT1H
X-Robots-Tag:noindex
X-PUBLISHED-TTL:PT1H
BEGIN:VTIMEZONE
TZID:Europe/Amsterdam
BEGIN:DAYLIGHT
TZOFFSETFROM:+0100
TZOFFSETTO:+0200
TZNAME:CEST
DTSTART:20250330T010000
END:DAYLIGHT
BEGIN:STANDARD
TZOFFSETFROM:+0200
TZOFFSETTO:+0100
TZNAME:CET
DTSTART:20251026T010000
END:STANDARD
BEGIN:DAYLIGHT
TZOFFSETFROM:+0100
TZOFFSETTO:+0200
TZNAME:CEST
DTSTART:20260329T010000
END:DAYLIGHT
BEGIN:STANDARD
TZOFFSETFROM:+0200
TZOFFSETTO:+0100
TZNAME:CET
DTSTART:20261025T010000
END:STANDARD
BEGIN:DAYLIGHT
TZOFFSETFROM:+0100
TZOFFSETTO:+0200
TZNAME:CEST
DTSTART:20270328T010000
END:DAYLIGHT
BEGIN:STANDARD
TZOFFSETFROM:+0200
TZOFFSETTO:+0100
TZNAME:CET
DTSTART:20271031T010000
END:STANDARD
END:VTIMEZONE
BEGIN:VEVENT
DTSTART;TZID=Europe/Amsterdam:20261010T200000
DTEND;TZID=Europe/Amsterdam:20261010T200000
DTSTAMP:20260419T185559
CREATED:20250920T192554Z
LAST-MODIFIED:20250920T192554Z
UID:18772-1791662400-1791662400@www.cultuurfabriekvoorschoten.nl
SUMMARY:PJPJ Jazzconcert
DESCRIPTION:Maandelijks (september-april) organiseert Podium Jong Professionals Jazz (PJPJ) sprankelende jazzconcerten met getalenteerde jonge jazzprofessionals van het Koninklijk Conservatorium Den Haag. In mei pakt PJPJ uit met een intiem JazzFest\, waar naast jong jazztalent van de School voor Jong Talent ook jazzstudenten van het Koninklijk Conservatorium Den Haag en ervaren jazzmusici optreden. De concerten bieden de jonge jazzprofessionals een unieke kans om podiumervaring op te doen in een bijzondere concertsetting. \nWie er komen optreden wordt bekendgemaakt in juli/augustus 2026.
URL:https://www.cultuurfabriekvoorschoten.nl/evenement/pjpj-jazzconcert-2/
LOCATION:Cultureel Centrum Voorschoten\, Prinses Marijkelaan 4\, Voorschoten\, Zuid-Holland\, 2252 HH\, Netherlands
CATEGORIES:Concert
ATTACH;FMTTYPE=image/jpeg:https://www.cultuurfabriekvoorschoten.nl/wp-content/uploads/2025/09/sfeerfoto-concert-4-11-2023-1600x-1.jpg
ORGANIZER;CN="Podium Jong Professionals Jazz":MAILTO:secretaris@pjpj.nl
END:VEVENT
END:VCALENDAR