BEGIN:VCALENDAR
VERSION:2.0
PRODID:-//Cultuurfabriek Voorschoten - ECPv6.15.20//NONSGML v1.0//EN
CALSCALE:GREGORIAN
METHOD:PUBLISH
X-WR-CALNAME:Cultuurfabriek Voorschoten
X-ORIGINAL-URL:https://www.cultuurfabriekvoorschoten.nl
X-WR-CALDESC:Evenementen voor Cultuurfabriek Voorschoten
REFRESH-INTERVAL;VALUE=DURATION:PT1H
X-Robots-Tag:noindex
X-PUBLISHED-TTL:PT1H
BEGIN:VTIMEZONE
TZID:Europe/Amsterdam
BEGIN:DAYLIGHT
TZOFFSETFROM:+0100
TZOFFSETTO:+0200
TZNAME:CEST
DTSTART:20240331T010000
END:DAYLIGHT
BEGIN:STANDARD
TZOFFSETFROM:+0200
TZOFFSETTO:+0100
TZNAME:CET
DTSTART:20241027T010000
END:STANDARD
BEGIN:DAYLIGHT
TZOFFSETFROM:+0100
TZOFFSETTO:+0200
TZNAME:CEST
DTSTART:20250330T010000
END:DAYLIGHT
BEGIN:STANDARD
TZOFFSETFROM:+0200
TZOFFSETTO:+0100
TZNAME:CET
DTSTART:20251026T010000
END:STANDARD
BEGIN:DAYLIGHT
TZOFFSETFROM:+0100
TZOFFSETTO:+0200
TZNAME:CEST
DTSTART:20260329T010000
END:DAYLIGHT
BEGIN:STANDARD
TZOFFSETFROM:+0200
TZOFFSETTO:+0100
TZNAME:CET
DTSTART:20261025T010000
END:STANDARD
END:VTIMEZONE
BEGIN:VEVENT
DTSTART;TZID=Europe/Amsterdam:20250923T194500
DTEND;TZID=Europe/Amsterdam:20250923T221500
DTSTAMP:20260419T230353
CREATED:20250831T140013Z
LAST-MODIFIED:20250831T140013Z
UID:18569-1758656700-1758665700@www.cultuurfabriekvoorschoten.nl
SUMMARY:Open repetitie Sinfonietta Voorschoten
DESCRIPTION:Ben je benieuwd hoe het er aan toe gaat in een orkest? Of benieuwd hoe het is om mee te spelen? \nBen je op zoek naar een nieuw orkest? \nKom vrijblijvend kijken of meespelen en kennismaken. \nHet orkest staat onder leiding van Aikaterini Sampakou. \nAlle instrumenten zijn welkom. We zoeken met name bassen\, celli\, 1e violen en hoorns.
URL:https://www.cultuurfabriekvoorschoten.nl/evenement/open-repetitie-sinfonietta-voorschoten/
LOCATION:Cultureel Centrum Voorschoten\, Prinses Marijkelaan 4\, Voorschoten\, Zuid-Holland\, 2252 HH\, Netherlands
CATEGORIES:Open repetitie
ATTACH;FMTTYPE=image/png:https://www.cultuurfabriekvoorschoten.nl/wp-content/uploads/2025/08/flyer-open-repetitie-3.png
END:VEVENT
BEGIN:VEVENT
DTSTART;TZID=Europe/Amsterdam:20250923T200000
DTEND;TZID=Europe/Amsterdam:20250923T213000
DTSTAMP:20260419T230353
CREATED:20250830T172443Z
LAST-MODIFIED:20250830T172702Z
UID:18537-1758657600-1758663000@www.cultuurfabriekvoorschoten.nl
SUMMARY:Belder speelt Bach
DESCRIPTION:Zowel Johann Sebastian Bach als Pieter-Jan Belder behoeven geen introductie. Maar Belders keuze van een Franse suite naast het Italiaans Concert verdient toelichting. De eenvoud en finesse van de Franse stijl en het vuur en de passie van de Italiaanse hadden aan het eind van de barok ieder hun voor- en tegenstanders. Händel raakte in Italië totaal ingeburgerd\, Telemann kon Franser schrijven dan de Fransen zelf. Maar bij Bach ligt het anders. Geen enkele Fransman had zijn Franse suites kunnen schrijven\, geen Italiaan schreef iets vergelijkbaars met zijn Italiaans Concert. Zodra je zijn muziek hoort is het gelijk duidelijk; dit kan alleen maar van Bach zijn. Zijn diepste wezen straalt ongenaakbaar door vorm en stijl heen. En dat is misschien wel het puurst te horen in de preludes en fuga’s uit het Wohltemperirte Clavier.\n\nHet is fascinerend om Bach te horen naast grote tijdgenoten uit beide landen. Domenico Scarlatti zocht in zijn 555 klavecimbelsonates de uitersten van instrument en musicus op. Jacques Duphly was in Parijs succesvol met zijn pièces de clavecin. Pieter-Jan koos stukken met de typerende Franse stijl: filigrane ornamentatie (Les Grâces)\, adellijke beschermheren (La de Belombre)\, medemusici (La Forqueray) en de dans (Chaconne).\n\nEn Belder kent de drie de componisten tot in de puntjes: van zowel Scarlatti en Duphly als van Bach nam hij de volledige werken op!
URL:https://www.cultuurfabriekvoorschoten.nl/evenement/belder-speelt-bach/
LOCATION:Kasteel Duivenvoorde\, Laan van Duivenvoorde 4\, Voorschoten\, 2516 BE\, Netherlands
CATEGORIES:Concert
ATTACH;FMTTYPE=image/jpeg:https://www.cultuurfabriekvoorschoten.nl/wp-content/uploads/2025/08/Alice-DSC04929.jpeg
ORGANIZER;CN="Musica Antica":MAILTO:office@musantica.nl
END:VEVENT
END:VCALENDAR