BEGIN:VCALENDAR
VERSION:2.0
PRODID:-//Cultuurfabriek Voorschoten - ECPv6.15.20//NONSGML v1.0//EN
CALSCALE:GREGORIAN
METHOD:PUBLISH
X-ORIGINAL-URL:https://www.cultuurfabriekvoorschoten.nl
X-WR-CALDESC:Evenementen voor Cultuurfabriek Voorschoten
REFRESH-INTERVAL;VALUE=DURATION:PT1H
X-Robots-Tag:noindex
X-PUBLISHED-TTL:PT1H
BEGIN:VTIMEZONE
TZID:Europe/Amsterdam
BEGIN:DAYLIGHT
TZOFFSETFROM:+0100
TZOFFSETTO:+0200
TZNAME:CEST
DTSTART:20240331T010000
END:DAYLIGHT
BEGIN:STANDARD
TZOFFSETFROM:+0200
TZOFFSETTO:+0100
TZNAME:CET
DTSTART:20241027T010000
END:STANDARD
BEGIN:DAYLIGHT
TZOFFSETFROM:+0100
TZOFFSETTO:+0200
TZNAME:CEST
DTSTART:20250330T010000
END:DAYLIGHT
BEGIN:STANDARD
TZOFFSETFROM:+0200
TZOFFSETTO:+0100
TZNAME:CET
DTSTART:20251026T010000
END:STANDARD
BEGIN:DAYLIGHT
TZOFFSETFROM:+0100
TZOFFSETTO:+0200
TZNAME:CEST
DTSTART:20260329T010000
END:DAYLIGHT
BEGIN:STANDARD
TZOFFSETFROM:+0200
TZOFFSETTO:+0100
TZNAME:CET
DTSTART:20261025T010000
END:STANDARD
END:VTIMEZONE
BEGIN:VEVENT
DTSTART;TZID=Europe/Amsterdam:20250820T130000
DTEND;TZID=Europe/Amsterdam:20250914T170000
DTSTAMP:20260421T045954
CREATED:20250722T104402Z
LAST-MODIFIED:20250722T104402Z
UID:18297-1755694800-1757869200@www.cultuurfabriekvoorschoten.nl
SUMMARY:Foto-expositie 'Natuurlijk Voorschoten in vogelvlucht'
DESCRIPTION:Deze bijzondere expositie is een samenwerking tussen Edwin Bosch\, tandarts en hobbyfotograaf\, en de FDCV Fotoclub Voorschoten.\nEdwin Bosch toont foto’s van vogels die in Voorschoten voorkomen of gezien zijn. Leden van FDCV Fotoclub exposeren foto’s van de natuur in en om Voorschoten.
URL:https://www.cultuurfabriekvoorschoten.nl/evenement/foto-expositie-natuurlijk-voorschoten-in-vogelvlucht/
LOCATION:Museum Voorschoten\, Voorstraat 17\, Voorschoten\, Zuid-Holland\, 2251 BL\, Netherlands
CATEGORIES:Tentoonstelling
ATTACH;FMTTYPE=image/jpeg:https://www.cultuurfabriekvoorschoten.nl/wp-content/uploads/2025/07/Poster-foto-expositie-vierkant-002.jpg
ORGANIZER;CN="Museum Voorschoten":MAILTO:info@museumvoorschoten.nl
END:VEVENT
BEGIN:VEVENT
DTSTART;TZID=Europe/Amsterdam:20250903T200000
DTEND;TZID=Europe/Amsterdam:20250903T220000
DTSTAMP:20260421T045954
CREATED:20250708T165952Z
LAST-MODIFIED:20250708T170334Z
UID:18275-1756929600-1756936800@www.cultuurfabriekvoorschoten.nl
SUMMARY:De Toonzetter - Kasteelconcert Duivenvoorde
DESCRIPTION:Op 3 september organiseert de Toonzetter een klassiek concert in kasteel Duivenvoorde mmv de concertpianiste Clara Biermasz en de celliste Maya Fridman uit Wenen\, Het wordt een harmonisch samenspel in klank tussen cello en piano. Inloop om 19.30 uur. Meer info en kaartverkoop zie de website.
URL:https://www.cultuurfabriekvoorschoten.nl/evenement/de-toonzetter-kasteelconcert-duivenvoorde/
LOCATION:Kasteel Duivenvoorde\, Laan van Duivenvoorde 4\, Voorschoten\, 2516 BE\, Netherlands
CATEGORIES:Concert
ATTACH;FMTTYPE=image/png:https://www.cultuurfabriekvoorschoten.nl/wp-content/uploads/2025/07/piano-cello-kasteelconcert.png
ORGANIZER;CN="De Toonzetter":MAILTO:h.boshouwerkroet@planet.nl
END:VEVENT
END:VCALENDAR