BEGIN:VCALENDAR
VERSION:2.0
PRODID:-//Cultuurfabriek Voorschoten - ECPv6.15.20//NONSGML v1.0//EN
CALSCALE:GREGORIAN
METHOD:PUBLISH
X-ORIGINAL-URL:https://www.cultuurfabriekvoorschoten.nl
X-WR-CALDESC:Evenementen voor Cultuurfabriek Voorschoten
REFRESH-INTERVAL;VALUE=DURATION:PT1H
X-Robots-Tag:noindex
X-PUBLISHED-TTL:PT1H
BEGIN:VTIMEZONE
TZID:Europe/Amsterdam
BEGIN:DAYLIGHT
TZOFFSETFROM:+0100
TZOFFSETTO:+0200
TZNAME:CEST
DTSTART:20240331T010000
END:DAYLIGHT
BEGIN:STANDARD
TZOFFSETFROM:+0200
TZOFFSETTO:+0100
TZNAME:CET
DTSTART:20241027T010000
END:STANDARD
BEGIN:DAYLIGHT
TZOFFSETFROM:+0100
TZOFFSETTO:+0200
TZNAME:CEST
DTSTART:20250330T010000
END:DAYLIGHT
BEGIN:STANDARD
TZOFFSETFROM:+0200
TZOFFSETTO:+0100
TZNAME:CET
DTSTART:20251026T010000
END:STANDARD
BEGIN:DAYLIGHT
TZOFFSETFROM:+0100
TZOFFSETTO:+0200
TZNAME:CEST
DTSTART:20260329T010000
END:DAYLIGHT
BEGIN:STANDARD
TZOFFSETFROM:+0200
TZOFFSETTO:+0100
TZNAME:CET
DTSTART:20261025T010000
END:STANDARD
END:VTIMEZONE
BEGIN:VEVENT
DTSTART;TZID=Europe/Amsterdam:20250409T130000
DTEND;TZID=Europe/Amsterdam:20250706T170000
DTSTAMP:20260421T153330
CREATED:20250329T140552Z
LAST-MODIFIED:20250329T140759Z
UID:17669-1744203600-1751821200@www.cultuurfabriekvoorschoten.nl
SUMMARY:Tentoonstelling '80 jaar vrij!'
DESCRIPTION:Vanaf 9 april is de tentoonstelling ’80 jaar vrij! Bevrijding\, herdenken en vieren in Voorschoten’ te bezoeken. Met deze expositie blikt het museum terug op de Tweede Wereldoorlog en de bevrijding\, en vertelt hoe sindsdien de oorlog is herdacht en Bevrijdingsdag is gevierd. De focus ligt hierbij op Voorschoten\, maar de gebeurtenissen worden ook in een bredere context geplaatst. \nHet begrip ‘vrijheid’ speelt een centrale rol in de tentoonstelling.
URL:https://www.cultuurfabriekvoorschoten.nl/evenement/tentoonstelling-80-jaar-vrij/
LOCATION:Museum Voorschoten\, Voorstraat 17\, Voorschoten\, Zuid-Holland\, 2251 BL\, Netherlands
CATEGORIES:Tentoonstelling
ATTACH;FMTTYPE=image/jpeg:https://www.cultuurfabriekvoorschoten.nl/wp-content/uploads/2025/03/nieuwe-tegel-website-met-80-jaar-002.jpg
ORGANIZER;CN="Museum Voorschoten":MAILTO:info@museumvoorschoten.nl
END:VEVENT
BEGIN:VEVENT
DTSTART;VALUE=DATE:20250521
DTEND;VALUE=DATE:20250616
DTSTAMP:20260421T153330
CREATED:20250509T081019Z
LAST-MODIFIED:20250509T082952Z
UID:17871-1747785600-1750031999@www.cultuurfabriekvoorschoten.nl
SUMMARY:De Boschbloem exposeert werken van haar leden
DESCRIPTION:Van dinsdag 21 mei tot en met 15 juni 2025 exposeert de Boschbloem 40 werken van haar tekencursisten in de bibliotheek van Voorschoten.  Het is een mooie en kleurrijke expositie waar tekeningen\, portretten\, stillevens\, aqualeren en meer te zien zijn. Allemaal werken die de cursisten in de afgelopen twee jaar hebben gemaakt. Kom kijken en laat je verrassen! \nKom tijdens de bibliotheek openingsuren kijken bij de GalerieBieb\, Wijngaardenlaan 4\, 2252XN Voorschoten.
URL:https://www.cultuurfabriekvoorschoten.nl/evenement/de-boschbloem-exposeert-werken-van-haar-leden/
LOCATION:Bibliotheek Voorschoten\, Wijngaardenlaan 4\, Voorschoten.\, 2252XN
CATEGORIES:Tentoonstelling
ATTACH;FMTTYPE=image/jpeg:https://www.cultuurfabriekvoorschoten.nl/wp-content/uploads/2025/05/Flyer-A5-Galerie-Bieb-2025.jpg
ORGANIZER;CN="Buurthuis de Boschbloem":MAILTO:info@boschbloem.nl
END:VEVENT
BEGIN:VEVENT
DTSTART;TZID=Europe/Amsterdam:20250525T143000
DTEND;TZID=Europe/Amsterdam:20250525T143000
DTSTAMP:20260421T153330
CREATED:20250115T095605Z
LAST-MODIFIED:20250423T131802Z
UID:17170-1748183400-1748183400@www.cultuurfabriekvoorschoten.nl
SUMMARY:Jaarconcert Harmonie Voorschoten
DESCRIPTION:Zondagmiddag 25 mei is het jaarconcert van Harmonie Voorschoten. Na de bijzondere concerten in het jubileumjaar 2024 is dit weer een gewoon jaarconcert. Uiteraard ook weer met veel mooie en leuke muziek. Op het programma staan o.a. filmmuziek van John Williams\, Hans Zimmer en Nino Rota en popklassiekers van de Beatles\, de Moody Blues en Norah Jones. Daarnaast speelt de harmonie enkele concertstukken van Händel en Jacob de Haan. \nDe toegang bedraagt 7\,50 euro\, inclusief consumptie in de pauze. Kaarten kunnen worden besteld via het bestelformulier: \n https://harmonievoorschoten.nl/2025/04/16/jaarconcert-2025/ \nVoor leden en donateurs is de toegang gratis\, zij krijgen een link naar een apart bestelformulier toegestuurd.
URL:https://www.cultuurfabriekvoorschoten.nl/evenement/jaarconcert-harmonie-voorschoten/
LOCATION:Bondsgebouw\, Leidseweg 100\, Voorschoten\, Netherlands
CATEGORIES:Concert
ATTACH;FMTTYPE=image/jpeg:https://www.cultuurfabriekvoorschoten.nl/wp-content/uploads/2025/01/DSC_1258-scaled.jpg
ORGANIZER;CN="Harmonie Voorschoten":MAILTO:harmonievoorschoten2020@gmail.com
END:VEVENT
END:VCALENDAR