BEGIN:VCALENDAR
VERSION:2.0
PRODID:-//Cultuurfabriek Voorschoten - ECPv6.15.20//NONSGML v1.0//EN
CALSCALE:GREGORIAN
METHOD:PUBLISH
X-WR-CALNAME:Cultuurfabriek Voorschoten
X-ORIGINAL-URL:https://www.cultuurfabriekvoorschoten.nl
X-WR-CALDESC:Evenementen voor Cultuurfabriek Voorschoten
REFRESH-INTERVAL;VALUE=DURATION:PT1H
X-Robots-Tag:noindex
X-PUBLISHED-TTL:PT1H
BEGIN:VTIMEZONE
TZID:Europe/Amsterdam
BEGIN:DAYLIGHT
TZOFFSETFROM:+0100
TZOFFSETTO:+0200
TZNAME:CEST
DTSTART:20240331T010000
END:DAYLIGHT
BEGIN:STANDARD
TZOFFSETFROM:+0200
TZOFFSETTO:+0100
TZNAME:CET
DTSTART:20241027T010000
END:STANDARD
BEGIN:DAYLIGHT
TZOFFSETFROM:+0100
TZOFFSETTO:+0200
TZNAME:CEST
DTSTART:20250330T010000
END:DAYLIGHT
BEGIN:STANDARD
TZOFFSETFROM:+0200
TZOFFSETTO:+0100
TZNAME:CET
DTSTART:20251026T010000
END:STANDARD
BEGIN:DAYLIGHT
TZOFFSETFROM:+0100
TZOFFSETTO:+0200
TZNAME:CEST
DTSTART:20260329T010000
END:DAYLIGHT
BEGIN:STANDARD
TZOFFSETFROM:+0200
TZOFFSETTO:+0100
TZNAME:CET
DTSTART:20261025T010000
END:STANDARD
END:VTIMEZONE
BEGIN:VTIMEZONE
TZID:Europe/Paris
BEGIN:DAYLIGHT
TZOFFSETFROM:+0100
TZOFFSETTO:+0200
TZNAME:CEST
DTSTART:20240331T010000
END:DAYLIGHT
BEGIN:STANDARD
TZOFFSETFROM:+0200
TZOFFSETTO:+0100
TZNAME:CET
DTSTART:20241027T010000
END:STANDARD
BEGIN:DAYLIGHT
TZOFFSETFROM:+0100
TZOFFSETTO:+0200
TZNAME:CEST
DTSTART:20250330T010000
END:DAYLIGHT
BEGIN:STANDARD
TZOFFSETFROM:+0200
TZOFFSETTO:+0100
TZNAME:CET
DTSTART:20251026T010000
END:STANDARD
BEGIN:DAYLIGHT
TZOFFSETFROM:+0100
TZOFFSETTO:+0200
TZNAME:CEST
DTSTART:20260329T010000
END:DAYLIGHT
BEGIN:STANDARD
TZOFFSETFROM:+0200
TZOFFSETTO:+0100
TZNAME:CET
DTSTART:20261025T010000
END:STANDARD
END:VTIMEZONE
BEGIN:VEVENT
DTSTART;TZID=Europe/Amsterdam:20250409T130000
DTEND;TZID=Europe/Amsterdam:20250706T170000
DTSTAMP:20260421T155236
CREATED:20250329T140552Z
LAST-MODIFIED:20250329T140759Z
UID:17669-1744203600-1751821200@www.cultuurfabriekvoorschoten.nl
SUMMARY:Tentoonstelling '80 jaar vrij!'
DESCRIPTION:Vanaf 9 april is de tentoonstelling ’80 jaar vrij! Bevrijding\, herdenken en vieren in Voorschoten’ te bezoeken. Met deze expositie blikt het museum terug op de Tweede Wereldoorlog en de bevrijding\, en vertelt hoe sindsdien de oorlog is herdacht en Bevrijdingsdag is gevierd. De focus ligt hierbij op Voorschoten\, maar de gebeurtenissen worden ook in een bredere context geplaatst. \nHet begrip ‘vrijheid’ speelt een centrale rol in de tentoonstelling.
URL:https://www.cultuurfabriekvoorschoten.nl/evenement/tentoonstelling-80-jaar-vrij/
LOCATION:Museum Voorschoten\, Voorstraat 17\, Voorschoten\, Zuid-Holland\, 2251 BL\, Netherlands
CATEGORIES:Tentoonstelling
ATTACH;FMTTYPE=image/jpeg:https://www.cultuurfabriekvoorschoten.nl/wp-content/uploads/2025/03/nieuwe-tegel-website-met-80-jaar-002.jpg
ORGANIZER;CN="Museum Voorschoten":MAILTO:info@museumvoorschoten.nl
END:VEVENT
BEGIN:VEVENT
DTSTART;TZID=Europe/Paris:20250518T143000
DTEND;TZID=Europe/Paris:20250518T143000
DTSTAMP:20260421T155236
CREATED:20250212T085021Z
LAST-MODIFIED:20250212T085025Z
UID:17287-1747578600-1747578600@www.cultuurfabriekvoorschoten.nl
SUMMARY:Optreden van Popkoor Joined Venture
DESCRIPTION:Het Popkoor Joined Venture zingt bekende Nederlands- en Engelstalige pop nummers vanaf de jaren 60 tot heden.
URL:https://www.cultuurfabriekvoorschoten.nl/evenement/optreden-van-popkoor-joined-venture/
LOCATION:Activiteitencentrum Alettahof\, Aletta Jacobsplantsoen\, Voorschoten\, Zuid-Holland\, 2253RP\, Netherlands
CATEGORIES:Concert
ATTACH;FMTTYPE=image/jpeg:https://www.cultuurfabriekvoorschoten.nl/wp-content/uploads/2024/11/foto-Alettahof.jpg
END:VEVENT
BEGIN:VEVENT
DTSTART;TZID=Europe/Amsterdam:20250518T150000
DTEND;TZID=Europe/Amsterdam:20250518T170000
DTSTAMP:20260421T155237
CREATED:20250226T181311Z
LAST-MODIFIED:20250404T145226Z
UID:17564-1747580400-1747587600@www.cultuurfabriekvoorschoten.nl
SUMMARY:Voorschotens Kamerkoor - Bach en Händel
DESCRIPTION:Jesu\, meine Freude voor vijfstemmig koor is één van Bach’s meest muzikaal complexe motetten. Gevolgd door het prachtige The Ways of Zion do Mourn van G.F. Händel gecomponeerd voor de begrafenis van Queen Caroline in 1737. Melancholische en ingetogen delen worden afgewisseld met grote muzikale virtuositeit. De begeleiding tijdens dit concert wordt verzorgd door een professioneel kwintet en een organist.
URL:https://www.cultuurfabriekvoorschoten.nl/evenement/voorschotens-kamerkoor-concert/
LOCATION:H. Laurentius Kerk\, Leidseweg 102\, Voorschoten\, Zuid-Holland\, 2251 LG\, Netherlands
CATEGORIES:Concert
ATTACH;FMTTYPE=image/jpeg:https://www.cultuurfabriekvoorschoten.nl/wp-content/uploads/2025/02/groepsfoto-tijdens-Elgar-concert-17-nov.-2024.jpg
ORGANIZER;CN="Voorschotens Kamerkoor":MAILTO:secretaris@voorschotenskamerkoor.nl
END:VEVENT
END:VCALENDAR