BEGIN:VCALENDAR
VERSION:2.0
PRODID:-//Cultuurfabriek Voorschoten - ECPv6.15.20//NONSGML v1.0//EN
CALSCALE:GREGORIAN
METHOD:PUBLISH
X-ORIGINAL-URL:https://www.cultuurfabriekvoorschoten.nl
X-WR-CALDESC:Evenementen voor Cultuurfabriek Voorschoten
REFRESH-INTERVAL;VALUE=DURATION:PT1H
X-Robots-Tag:noindex
X-PUBLISHED-TTL:PT1H
BEGIN:VTIMEZONE
TZID:Europe/Amsterdam
BEGIN:DAYLIGHT
TZOFFSETFROM:+0100
TZOFFSETTO:+0200
TZNAME:CEST
DTSTART:20240331T010000
END:DAYLIGHT
BEGIN:STANDARD
TZOFFSETFROM:+0200
TZOFFSETTO:+0100
TZNAME:CET
DTSTART:20241027T010000
END:STANDARD
BEGIN:DAYLIGHT
TZOFFSETFROM:+0100
TZOFFSETTO:+0200
TZNAME:CEST
DTSTART:20250330T010000
END:DAYLIGHT
BEGIN:STANDARD
TZOFFSETFROM:+0200
TZOFFSETTO:+0100
TZNAME:CET
DTSTART:20251026T010000
END:STANDARD
BEGIN:DAYLIGHT
TZOFFSETFROM:+0100
TZOFFSETTO:+0200
TZNAME:CEST
DTSTART:20260329T010000
END:DAYLIGHT
BEGIN:STANDARD
TZOFFSETFROM:+0200
TZOFFSETTO:+0100
TZNAME:CET
DTSTART:20261025T010000
END:STANDARD
END:VTIMEZONE
BEGIN:VEVENT
DTSTART;TZID=Europe/Amsterdam:20250409T130000
DTEND;TZID=Europe/Amsterdam:20250706T170000
DTSTAMP:20260421T154314
CREATED:20250329T140552Z
LAST-MODIFIED:20250329T140759Z
UID:17669-1744203600-1751821200@www.cultuurfabriekvoorschoten.nl
SUMMARY:Tentoonstelling '80 jaar vrij!'
DESCRIPTION:Vanaf 9 april is de tentoonstelling ’80 jaar vrij! Bevrijding\, herdenken en vieren in Voorschoten’ te bezoeken. Met deze expositie blikt het museum terug op de Tweede Wereldoorlog en de bevrijding\, en vertelt hoe sindsdien de oorlog is herdacht en Bevrijdingsdag is gevierd. De focus ligt hierbij op Voorschoten\, maar de gebeurtenissen worden ook in een bredere context geplaatst. \nHet begrip ‘vrijheid’ speelt een centrale rol in de tentoonstelling.
URL:https://www.cultuurfabriekvoorschoten.nl/evenement/tentoonstelling-80-jaar-vrij/
LOCATION:Museum Voorschoten\, Voorstraat 17\, Voorschoten\, Zuid-Holland\, 2251 BL\, Netherlands
CATEGORIES:Tentoonstelling
ATTACH;FMTTYPE=image/jpeg:https://www.cultuurfabriekvoorschoten.nl/wp-content/uploads/2025/03/nieuwe-tegel-website-met-80-jaar-002.jpg
ORGANIZER;CN="Museum Voorschoten":MAILTO:info@museumvoorschoten.nl
END:VEVENT
BEGIN:VEVENT
DTSTART;TZID=Europe/Amsterdam:20250513T200000
DTEND;TZID=Europe/Amsterdam:20250513T200000
DTSTAMP:20260421T154314
CREATED:20250110T130846Z
LAST-MODIFIED:20250213T074048Z
UID:17084-1747166400-1747166400@www.cultuurfabriekvoorschoten.nl
SUMMARY:Kasper Schonewille & Nicolas van Poucke: concert op twee Erards
DESCRIPTION:Sébastien Erard (1752-1831) ontwierp een vleugel waar de snaren parallel lopen en niet kruislings zoals bij onze moderne vleugels. Een Erard-vleugel heeft hierdoor een helderder klankkleur. Destijds speelden alle groten der muziek op een Erard-vleugel: Mendelssohn\, Chopin\, Liszt\, Debussy etc. Kasper Schonewille en Nicolas van Poucke spelen op een Erard 248 uit 1865 (Londen) en een Erard 248 uit 1878 (Parijs).
URL:https://www.cultuurfabriekvoorschoten.nl/evenement/kasper-schonewille-nicolas-van-poucke-concert-op-twee-erards/
LOCATION:Dorpskerk Voorschoten\, Kerkplein 2\, Voorschoten\, 2251 BS\, Netherlands
CATEGORIES:Concert
ATTACH;FMTTYPE=image/jpeg:https://www.cultuurfabriekvoorschoten.nl/wp-content/uploads/2025/01/nicolas-van-poucke-863x1024-1.jpeg
END:VEVENT
BEGIN:VEVENT
DTSTART;TZID=Europe/Amsterdam:20250513T200000
DTEND;TZID=Europe/Amsterdam:20250513T220000
DTSTAMP:20260421T154314
CREATED:20250416T083841Z
LAST-MODIFIED:20250416T083841Z
UID:17770-1747166400-1747173600@www.cultuurfabriekvoorschoten.nl
SUMMARY:Interactieve avond over het leven in Voorschoten tijdens de Tweede Wereldoorlog.
DESCRIPTION:Hanneke de Waal (Bibliotheek Voorschoten) en Conny van der Krogt (Cultuurfabriek) verzorgen een interactieve avond over het leven in Voorschoten tijdens de Tweede Wereldoorlog. Het programma ‘Dorp in Oorlogstijd’ is oorspronkelijk ontwikkeld voor schoolkinderen\, maar is nu aangepast voor volwassenen. Tickets à €1\,- zijn te koop via de website www.museumvoorschoten.nl
URL:https://www.cultuurfabriekvoorschoten.nl/evenement/interactieve-avond-over-het-leven-in-voorschoten-tijdens-de-tweede-wereldoorlog/
LOCATION:Museum Voorschoten\, Voorstraat 17\, Voorschoten\, Zuid-Holland\, 2251 BL\, Netherlands
CATEGORIES:Lezing
ATTACH;FMTTYPE=image/jpeg:https://www.cultuurfabriekvoorschoten.nl/wp-content/uploads/2025/04/nieuwe-tegel-website-met-80-jaar-002.jpg
ORGANIZER;CN="Museum Voorschoten":MAILTO:info@museumvoorschoten.nl
END:VEVENT
END:VCALENDAR