BEGIN:VCALENDAR
VERSION:2.0
PRODID:-//Cultuurfabriek Voorschoten - ECPv6.15.20//NONSGML v1.0//EN
CALSCALE:GREGORIAN
METHOD:PUBLISH
X-ORIGINAL-URL:https://www.cultuurfabriekvoorschoten.nl
X-WR-CALDESC:Evenementen voor Cultuurfabriek Voorschoten
REFRESH-INTERVAL;VALUE=DURATION:PT1H
X-Robots-Tag:noindex
X-PUBLISHED-TTL:PT1H
BEGIN:VTIMEZONE
TZID:Europe/Amsterdam
BEGIN:DAYLIGHT
TZOFFSETFROM:+0100
TZOFFSETTO:+0200
TZNAME:CEST
DTSTART:20240331T010000
END:DAYLIGHT
BEGIN:STANDARD
TZOFFSETFROM:+0200
TZOFFSETTO:+0100
TZNAME:CET
DTSTART:20241027T010000
END:STANDARD
BEGIN:DAYLIGHT
TZOFFSETFROM:+0100
TZOFFSETTO:+0200
TZNAME:CEST
DTSTART:20250330T010000
END:DAYLIGHT
BEGIN:STANDARD
TZOFFSETFROM:+0200
TZOFFSETTO:+0100
TZNAME:CET
DTSTART:20251026T010000
END:STANDARD
BEGIN:DAYLIGHT
TZOFFSETFROM:+0100
TZOFFSETTO:+0200
TZNAME:CEST
DTSTART:20260329T010000
END:DAYLIGHT
BEGIN:STANDARD
TZOFFSETFROM:+0200
TZOFFSETTO:+0100
TZNAME:CET
DTSTART:20261025T010000
END:STANDARD
END:VTIMEZONE
BEGIN:VEVENT
DTSTART;TZID=Europe/Amsterdam:20250409T130000
DTEND;TZID=Europe/Amsterdam:20250706T170000
DTSTAMP:20260421T154310
CREATED:20250329T140552Z
LAST-MODIFIED:20250329T140759Z
UID:17669-1744203600-1751821200@www.cultuurfabriekvoorschoten.nl
SUMMARY:Tentoonstelling '80 jaar vrij!'
DESCRIPTION:Vanaf 9 april is de tentoonstelling ’80 jaar vrij! Bevrijding\, herdenken en vieren in Voorschoten’ te bezoeken. Met deze expositie blikt het museum terug op de Tweede Wereldoorlog en de bevrijding\, en vertelt hoe sindsdien de oorlog is herdacht en Bevrijdingsdag is gevierd. De focus ligt hierbij op Voorschoten\, maar de gebeurtenissen worden ook in een bredere context geplaatst. \nHet begrip ‘vrijheid’ speelt een centrale rol in de tentoonstelling.
URL:https://www.cultuurfabriekvoorschoten.nl/evenement/tentoonstelling-80-jaar-vrij/
LOCATION:Museum Voorschoten\, Voorstraat 17\, Voorschoten\, Zuid-Holland\, 2251 BL\, Netherlands
CATEGORIES:Tentoonstelling
ATTACH;FMTTYPE=image/jpeg:https://www.cultuurfabriekvoorschoten.nl/wp-content/uploads/2025/03/nieuwe-tegel-website-met-80-jaar-002.jpg
ORGANIZER;CN="Museum Voorschoten":MAILTO:info@museumvoorschoten.nl
END:VEVENT
BEGIN:VEVENT
DTSTART;TZID=Europe/Amsterdam:20250505T130000
DTEND;TZID=Europe/Amsterdam:20250505T170000
DTSTAMP:20260421T154310
CREATED:20250428T081056Z
LAST-MODIFIED:20250428T081056Z
UID:17848-1746450000-1746464400@www.cultuurfabriekvoorschoten.nl
SUMMARY:Museum Voorschoten met tentoonstelling '80 jaar vrij!' op 5 mei 's middags open.
DESCRIPTION:In Museum Voorschoten is nu de tentoonstelling ’80 jaar vrij! Bevrijding\, herdenken en vieren in Voorschoten’ te zien. Normaal gesproken is het museum op maandag gesloten\, maar op Bevrijdingsdag (5 mei) is het museum van 13:00 tot 17:00 uur gratis te bezoeken.
URL:https://www.cultuurfabriekvoorschoten.nl/evenement/museum-voorschoten-met-tentoonstelling-80-jaar-vrij-op-5-mei-s-middags-open/
LOCATION:Museum Voorschoten\, Voorstraat 17\, Voorschoten\, Zuid-Holland\, 2251 BL\, Netherlands
CATEGORIES:Tentoonstelling
ATTACH;FMTTYPE=image/jpeg:https://www.cultuurfabriekvoorschoten.nl/wp-content/uploads/2025/04/Tentoonstelling-scaled.jpg
ORGANIZER;CN="Museum Voorschoten":MAILTO:info@museumvoorschoten.nl
END:VEVENT
BEGIN:VEVENT
DTSTART;TZID=Europe/Amsterdam:20250505T150000
DTEND;TZID=Europe/Amsterdam:20250505T170000
DTSTAMP:20260421T154310
CREATED:20250404T171735Z
LAST-MODIFIED:20250404T171823Z
UID:17727-1746457200-1746464400@www.cultuurfabriekvoorschoten.nl
SUMMARY:Bevrijdingsconcert Exultate Deo
DESCRIPTION:Het thema Vrede en Vrijheid staat centraal in het Bevrijdingsconcert van Exultate Deo. \nHet repertoire varieert van Mendelssohn tot Vera Lynn en van originele spirituals tot oer-Hollandse liederen die uitnodigen tot meezingen. Kortom\, een mix van klassiek en populair. Daarnaast wordt het programma opgeluisterd door stemmige voordrachten\, prachtige solo’s en fraaie instrumentale intermezzo’s op vleugel en saxofoon. Met dit verrassende concert vieren wij de Vrijheid in Voorschoten. \nViert u met ons mee? \n 
URL:https://www.cultuurfabriekvoorschoten.nl/evenement/bevrijdingsconcert-exultate-deo/
LOCATION:Dorpskerk Voorschoten\, Kerkplein 2\, Voorschoten\, 2251 BS\, Netherlands
CATEGORIES:Concert,Optreden
ATTACH;FMTTYPE=image/jpeg:https://www.cultuurfabriekvoorschoten.nl/wp-content/uploads/2025/04/poster-Bevrijdingsconcert.jpeg
ORGANIZER;CN="Exultate Deo":MAILTO:secretaris@exultatedeo.nl
END:VEVENT
END:VCALENDAR