BEGIN:VCALENDAR
VERSION:2.0
PRODID:-//Cultuurfabriek Voorschoten - ECPv6.15.20//NONSGML v1.0//EN
CALSCALE:GREGORIAN
METHOD:PUBLISH
X-ORIGINAL-URL:https://www.cultuurfabriekvoorschoten.nl
X-WR-CALDESC:Evenementen voor Cultuurfabriek Voorschoten
REFRESH-INTERVAL;VALUE=DURATION:PT1H
X-Robots-Tag:noindex
X-PUBLISHED-TTL:PT1H
BEGIN:VTIMEZONE
TZID:Europe/Amsterdam
BEGIN:DAYLIGHT
TZOFFSETFROM:+0100
TZOFFSETTO:+0200
TZNAME:CEST
DTSTART:20240331T010000
END:DAYLIGHT
BEGIN:STANDARD
TZOFFSETFROM:+0200
TZOFFSETTO:+0100
TZNAME:CET
DTSTART:20241027T010000
END:STANDARD
BEGIN:DAYLIGHT
TZOFFSETFROM:+0100
TZOFFSETTO:+0200
TZNAME:CEST
DTSTART:20250330T010000
END:DAYLIGHT
BEGIN:STANDARD
TZOFFSETFROM:+0200
TZOFFSETTO:+0100
TZNAME:CET
DTSTART:20251026T010000
END:STANDARD
BEGIN:DAYLIGHT
TZOFFSETFROM:+0100
TZOFFSETTO:+0200
TZNAME:CEST
DTSTART:20260329T010000
END:DAYLIGHT
BEGIN:STANDARD
TZOFFSETFROM:+0200
TZOFFSETTO:+0100
TZNAME:CET
DTSTART:20261025T010000
END:STANDARD
END:VTIMEZONE
BEGIN:VTIMEZONE
TZID:Europe/Paris
BEGIN:DAYLIGHT
TZOFFSETFROM:+0100
TZOFFSETTO:+0200
TZNAME:CEST
DTSTART:20240331T010000
END:DAYLIGHT
BEGIN:STANDARD
TZOFFSETFROM:+0200
TZOFFSETTO:+0100
TZNAME:CET
DTSTART:20241027T010000
END:STANDARD
BEGIN:DAYLIGHT
TZOFFSETFROM:+0100
TZOFFSETTO:+0200
TZNAME:CEST
DTSTART:20250330T010000
END:DAYLIGHT
BEGIN:STANDARD
TZOFFSETFROM:+0200
TZOFFSETTO:+0100
TZNAME:CET
DTSTART:20251026T010000
END:STANDARD
BEGIN:DAYLIGHT
TZOFFSETFROM:+0100
TZOFFSETTO:+0200
TZNAME:CEST
DTSTART:20260329T010000
END:DAYLIGHT
BEGIN:STANDARD
TZOFFSETFROM:+0200
TZOFFSETTO:+0100
TZNAME:CET
DTSTART:20261025T010000
END:STANDARD
END:VTIMEZONE
BEGIN:VEVENT
DTSTART;TZID=Europe/Amsterdam:20250217T080000
DTEND;TZID=Europe/Amsterdam:20250331T080000
DTSTAMP:20260421T180735
CREATED:20250217T085649Z
LAST-MODIFIED:20250217T085944Z
UID:17497-1739779200-1743408000@www.cultuurfabriekvoorschoten.nl
SUMMARY:Poëzie Voorschoten - Dichtwedstrijd leerlingen basischolen in Voorschoten
DESCRIPTION:In het kader van de herdenking van 80 jaar vrijheid na de Tweede Wereldoorlog organiseert Poëzie Voorschoten een bijzondere dichtwedstrijd voor alle basisschoolleerlingen in Voorschoten. Onder de titel ‘DICHTER BIJ VREDE’ worden kinderen uitgedaagd om in dichtvorm hun gedachten en gevoelens over vrede te verwoorden. \nDe wedstrijd is opgedeeld in drie leeftijdscategorieën: \n\ngroep 3 en 4\,\ngroep 5 en 6\, en\ngroep 7 en 8.\n\nEen deskundige jury zal de inzendingen beoordelen en per categorie drie winnaars selecteren. Dat betekent dat er in totaal negen winnende gedichten zullen zijn.\nDe prijsuitreiking vindt plaats op woensdag 16 april en wordt een feestelijke gebeurtenis. De winnende gedichten krijgen daarnaast een ereplaats in Museum Voorschoten\, waar bezoekers ze kunnen bewonderen. Bovendien wordt het beste categoriegedicht gepubliceerd in de Voorschotense Krant. \nDeze wedstrijd biedt jonge dichters niet alleen de kans om hun creativiteit te laten zien\, maar draagt ook bij aan bewustwording over het belang van vrede en vrijheid. Poëzie Voorschoten hoopt dan ook op veel inspirerende inzendingen.\nKinderen kunnen hun gedichten insturen tot uiterlijk 31 maart 2025 via e-mail naar wedstrijd@poezievoorschoten.nl. Ook voor vragen omtrent de wedstrijd kan dit mailadres gebruikt worden. \nDoe jij ook mee aan ‘DICHTER BIJ VREDE’?
URL:https://www.cultuurfabriekvoorschoten.nl/evenement/poezie-voorschoten-dichtwedstrijd-leerlingen-basischolen-in-voorschoten/
CATEGORIES:Tentoonstelling
ATTACH;FMTTYPE=image/jpeg:https://www.cultuurfabriekvoorschoten.nl/wp-content/uploads/2025/02/gedichten-wedstrijd.jpg
END:VEVENT
BEGIN:VEVENT
DTSTART;TZID=Europe/Paris:20250305T130000
DTEND;TZID=Europe/Paris:20250331T170000
DTSTAMP:20260421T180735
CREATED:20250212T090246Z
LAST-MODIFIED:20250213T073654Z
UID:17294-1741179600-1743440400@www.cultuurfabriekvoorschoten.nl
SUMMARY:Expositie Stil-Leven
DESCRIPTION:Ga je voor de stilte of voor het leven? Leden van Kunstgenootschap Vlietstreek kiezen voor allebei! Zij hebben zich door dit thema laten inspireren voor hun jaarlijkse expositie in museum Voorschoten. Daar is hun gevarieerde werk te zien van 5 t/m 31 maart. De kunstenaars ontvangen u graag op de openingsdagen van het museum\, woensdag t/m zondag 13:00 – 17:00 uur. De toegang is gratis\, uw museumkaart is welkom.
URL:https://www.cultuurfabriekvoorschoten.nl/evenement/expositie-stil-leven/
LOCATION:Museum Voorschoten\, Voorstraat 17\, Voorschoten\, Zuid-Holland\, 2251 BL\, Netherlands
CATEGORIES:Tentoonstelling
ATTACH;FMTTYPE=image/jpeg:https://www.cultuurfabriekvoorschoten.nl/wp-content/uploads/2025/02/Poster-expo-Stil-leven--scaled.jpg
END:VEVENT
BEGIN:VEVENT
DTSTART;TZID=Europe/Amsterdam:20250306T080000
DTEND;TZID=Europe/Amsterdam:20250416T170000
DTSTAMP:20260421T180735
CREATED:20250307T102009Z
LAST-MODIFIED:20250307T102009Z
UID:17598-1741248000-1744822800@www.cultuurfabriekvoorschoten.nl
SUMMARY:80 jaar vrij! Het museum organiseert creatieve wedstrijden voor alle leeftijden.
DESCRIPTION:Doe mee met de tekenwedstrijd voor leerlingen van groep 3 t/m 8! Boven de 12? Doe mee met de creatieve wedstrijden rond het thema ‘vrijheid’. Er zijn drie categorieën: woord (een gedicht)\, beeld en multimedia. Zie voor de spelregels de website www.museumvoorschoten.nl .
URL:https://www.cultuurfabriekvoorschoten.nl/evenement/80-jaar-vrij-het-museum-organiseert-creatieve-wedstrijden-voor-alle-leeftijden/
LOCATION:Museum Voorschoten\, Voorstraat 17\, Voorschoten\, Zuid-Holland\, 2251 BL\, Netherlands
CATEGORIES:Tentoonstelling
ATTACH;FMTTYPE=image/jpeg:https://www.cultuurfabriekvoorschoten.nl/wp-content/uploads/2025/03/Schermafbeelding-2025-02-27-232945.jpg
ORGANIZER;CN="Museum Voorschoten":MAILTO:info@museumvoorschoten.nl
END:VEVENT
END:VCALENDAR