BEGIN:VCALENDAR
VERSION:2.0
PRODID:-//Cultuurfabriek Voorschoten - ECPv6.15.20//NONSGML v1.0//EN
CALSCALE:GREGORIAN
METHOD:PUBLISH
X-WR-CALNAME:Cultuurfabriek Voorschoten
X-ORIGINAL-URL:https://www.cultuurfabriekvoorschoten.nl
X-WR-CALDESC:Evenementen voor Cultuurfabriek Voorschoten
REFRESH-INTERVAL;VALUE=DURATION:PT1H
X-Robots-Tag:noindex
X-PUBLISHED-TTL:PT1H
BEGIN:VTIMEZONE
TZID:Europe/Amsterdam
BEGIN:DAYLIGHT
TZOFFSETFROM:+0100
TZOFFSETTO:+0200
TZNAME:CEST
DTSTART:20240331T010000
END:DAYLIGHT
BEGIN:STANDARD
TZOFFSETFROM:+0200
TZOFFSETTO:+0100
TZNAME:CET
DTSTART:20241027T010000
END:STANDARD
BEGIN:DAYLIGHT
TZOFFSETFROM:+0100
TZOFFSETTO:+0200
TZNAME:CEST
DTSTART:20250330T010000
END:DAYLIGHT
BEGIN:STANDARD
TZOFFSETFROM:+0200
TZOFFSETTO:+0100
TZNAME:CET
DTSTART:20251026T010000
END:STANDARD
BEGIN:DAYLIGHT
TZOFFSETFROM:+0100
TZOFFSETTO:+0200
TZNAME:CEST
DTSTART:20260329T010000
END:DAYLIGHT
BEGIN:STANDARD
TZOFFSETFROM:+0200
TZOFFSETTO:+0100
TZNAME:CET
DTSTART:20261025T010000
END:STANDARD
END:VTIMEZONE
BEGIN:VEVENT
DTSTART;TZID=Europe/Amsterdam:20250105T130000
DTEND;TZID=Europe/Amsterdam:20250223T170000
DTSTAMP:20260421T191829
CREATED:20241230T145248Z
LAST-MODIFIED:20250212T082258Z
UID:11366-1736082000-1740330000@www.cultuurfabriekvoorschoten.nl
SUMMARY:Tentoonstelling ‘Het Verhaal van Voorschoten & Theo van Hoytema’
DESCRIPTION:De kunstenaar Theo van Hoytema (1863-1917) heeft in zijn jonge jaren in Voorschoten gewoond. Hij is vooral bekend door zijn kalenders en prentenboeken met vogelplaten. Op de expositie zijn daarnaast ook vazen en een stoel met door hem ontworpen decoraties te zien. Een heel persoonlijk object is een schetsboekje met tekeningen van gebouwen en straten\, als souvenir van Voorschoten. De tentoonstelling loopt t/m 23 februari 2025.
URL:https://www.cultuurfabriekvoorschoten.nl/evenement/museum-voorschoten-tentoonstelling-het-verhaal-van-voorschoten-theo-van-hoytema/
LOCATION:Museum Voorschoten\, Voorstraat 17\, Voorschoten\, Zuid-Holland\, 2251 BL\, Netherlands
CATEGORIES:Tentoonstelling
ATTACH;FMTTYPE=image/jpeg:https://www.cultuurfabriekvoorschoten.nl/wp-content/uploads/2024/12/tegel-Hoytema-002.jpg
ORGANIZER;CN="Museum Voorschoten":MAILTO:info@museumvoorschoten.nl
END:VEVENT
BEGIN:VEVENT
DTSTART;TZID=Europe/Amsterdam:20250217T080000
DTEND;TZID=Europe/Amsterdam:20250305T180000
DTSTAMP:20260421T191829
CREATED:20250217T143616Z
LAST-MODIFIED:20250217T143616Z
UID:17517-1739779200-1741197600@www.cultuurfabriekvoorschoten.nl
SUMMARY:Aanmelden gratis workshops leerlingen basisscholen Voorschoten
DESCRIPTION:Hé\, dat kan ik ook! \nGratis workshops groep 5 t/m 8 basisscholen Voorschoten \nVerwonder om de hoek organiseert in samenwerking met de Cultuurfabriek en een aantal Voorschotense aanbieders in 2025 opnieuw gratis workshops voor kinderen. Woon je in Voorschoten en zit je in groep 5\, 6\, 7 of 8? In maart en april 2025 kun je ontdekken wat er bij jou om de hoek te doen is bij aanbieders uit Voorschoten. \n\nVerwonder de natuur om de hoek met bioloog Jack! \n\nBioloog Jack is dol op buiten en kan zelfs in de natuur overleven\, maar hij kent ook de leuke plekjes in jouw Voorschoten. In vier spannende workshops neemt Jack je mee op avontuur. \n\nMaak kennis met verschillende instrumenten en maak samen muziek met Muziekvereniging Laurentius! \n\nBen jij benieuwd naar wat muziek maken zo bijzonder maakt? Wil je ontdekken welk instrument het beste bij jou past? Dan zijn deze workshops voor jou. \n\nOntdek de wereld van archeologie met Museum Voorschoten! \n\nWil jij ontdekken wat er zich allemaal onder de grond verborgen houdt? Kom dan naar deze workshops\, dan ga je kennismaken met archeologisch onderzoek. \n\nOntdek je creativiteit in schilderen en tekenen met Atelier Aventurijn!\n\nWil je op creatief avontuur?  In een echt atelier op het landgoed Duivenvoorde ontdek je je creativiteit. Tijdens deze vier workshops ga je werken met verschillende materialen en technieken. \n\nSchrijf je eigen hit! Leer zelf een lied schrijven met PJPJ Voorschoten!\n\nHeb jij weleens een liedje in je hoofd? Hou je van zingen? In deze workshops leer je hoe je een liedje schrijft en hoe je woorden laat klinken als muziek. \nMeedoen is gratis! Inschrijven kan tot en met 5 maart 2025. Let op: vol is vol. \nSchrijf je nu in via www.verwonderomdehoek.nl (gebruik trefwoord: Voorschoten) \n 
URL:https://www.cultuurfabriekvoorschoten.nl/evenement/aanmelden-gratis-workshops-leerlingen-basisscholen-voorschoten/
CATEGORIES:Cursus
ATTACH;FMTTYPE=image/jpeg:https://www.cultuurfabriekvoorschoten.nl/wp-content/uploads/2025/02/Flyer-Verwonder-om-de-hoek-Voorschoten-2025.jpg
END:VEVENT
BEGIN:VEVENT
DTSTART;TZID=Europe/Amsterdam:20250217T080000
DTEND;TZID=Europe/Amsterdam:20250331T080000
DTSTAMP:20260421T191829
CREATED:20250217T085649Z
LAST-MODIFIED:20250217T085944Z
UID:17497-1739779200-1743408000@www.cultuurfabriekvoorschoten.nl
SUMMARY:Poëzie Voorschoten - Dichtwedstrijd leerlingen basischolen in Voorschoten
DESCRIPTION:In het kader van de herdenking van 80 jaar vrijheid na de Tweede Wereldoorlog organiseert Poëzie Voorschoten een bijzondere dichtwedstrijd voor alle basisschoolleerlingen in Voorschoten. Onder de titel ‘DICHTER BIJ VREDE’ worden kinderen uitgedaagd om in dichtvorm hun gedachten en gevoelens over vrede te verwoorden. \nDe wedstrijd is opgedeeld in drie leeftijdscategorieën: \n\ngroep 3 en 4\,\ngroep 5 en 6\, en\ngroep 7 en 8.\n\nEen deskundige jury zal de inzendingen beoordelen en per categorie drie winnaars selecteren. Dat betekent dat er in totaal negen winnende gedichten zullen zijn.\nDe prijsuitreiking vindt plaats op woensdag 16 april en wordt een feestelijke gebeurtenis. De winnende gedichten krijgen daarnaast een ereplaats in Museum Voorschoten\, waar bezoekers ze kunnen bewonderen. Bovendien wordt het beste categoriegedicht gepubliceerd in de Voorschotense Krant. \nDeze wedstrijd biedt jonge dichters niet alleen de kans om hun creativiteit te laten zien\, maar draagt ook bij aan bewustwording over het belang van vrede en vrijheid. Poëzie Voorschoten hoopt dan ook op veel inspirerende inzendingen.\nKinderen kunnen hun gedichten insturen tot uiterlijk 31 maart 2025 via e-mail naar wedstrijd@poezievoorschoten.nl. Ook voor vragen omtrent de wedstrijd kan dit mailadres gebruikt worden. \nDoe jij ook mee aan ‘DICHTER BIJ VREDE’?
URL:https://www.cultuurfabriekvoorschoten.nl/evenement/poezie-voorschoten-dichtwedstrijd-leerlingen-basischolen-in-voorschoten/
CATEGORIES:Tentoonstelling
ATTACH;FMTTYPE=image/jpeg:https://www.cultuurfabriekvoorschoten.nl/wp-content/uploads/2025/02/gedichten-wedstrijd.jpg
END:VEVENT
BEGIN:VEVENT
DTSTART;TZID=Europe/Amsterdam:20250222T200000
DTEND;TZID=Europe/Amsterdam:20250222T200000
DTSTAMP:20260421T191829
CREATED:20250217T101330Z
LAST-MODIFIED:20250217T101330Z
UID:17506-1740254400-1740254400@www.cultuurfabriekvoorschoten.nl
SUMMARY:Concert Muziekvereniging Laurentius
DESCRIPTION:Zaterdag 22 februari organiseren we een gevarieerd concert met alle onderdelen van de vereniging! Kom je ook?
URL:https://www.cultuurfabriekvoorschoten.nl/evenement/concert-muziekvereniging-laurentius/
LOCATION:Cultureel Centrum Voorschoten\, Prinses Marijkelaan 4\, Voorschoten\, Zuid-Holland\, 2252 HH\, Netherlands
CATEGORIES:Concert
ATTACH;FMTTYPE=image/jpeg:https://www.cultuurfabriekvoorschoten.nl/wp-content/uploads/2025/02/Concert-Laurentius-22-2-2025.jpg
END:VEVENT
END:VCALENDAR