BEGIN:VCALENDAR
VERSION:2.0
PRODID:-//Cultuurfabriek Voorschoten - ECPv6.15.20//NONSGML v1.0//EN
CALSCALE:GREGORIAN
METHOD:PUBLISH
X-WR-CALNAME:Cultuurfabriek Voorschoten
X-ORIGINAL-URL:https://www.cultuurfabriekvoorschoten.nl
X-WR-CALDESC:Evenementen voor Cultuurfabriek Voorschoten
REFRESH-INTERVAL;VALUE=DURATION:PT1H
X-Robots-Tag:noindex
X-PUBLISHED-TTL:PT1H
BEGIN:VTIMEZONE
TZID:Europe/Amsterdam
BEGIN:DAYLIGHT
TZOFFSETFROM:+0100
TZOFFSETTO:+0200
TZNAME:CEST
DTSTART:20240331T010000
END:DAYLIGHT
BEGIN:STANDARD
TZOFFSETFROM:+0200
TZOFFSETTO:+0100
TZNAME:CET
DTSTART:20241027T010000
END:STANDARD
BEGIN:DAYLIGHT
TZOFFSETFROM:+0100
TZOFFSETTO:+0200
TZNAME:CEST
DTSTART:20250330T010000
END:DAYLIGHT
BEGIN:STANDARD
TZOFFSETFROM:+0200
TZOFFSETTO:+0100
TZNAME:CET
DTSTART:20251026T010000
END:STANDARD
BEGIN:DAYLIGHT
TZOFFSETFROM:+0100
TZOFFSETTO:+0200
TZNAME:CEST
DTSTART:20260329T010000
END:DAYLIGHT
BEGIN:STANDARD
TZOFFSETFROM:+0200
TZOFFSETTO:+0100
TZNAME:CET
DTSTART:20261025T010000
END:STANDARD
END:VTIMEZONE
BEGIN:VTIMEZONE
TZID:Europe/Paris
BEGIN:DAYLIGHT
TZOFFSETFROM:+0100
TZOFFSETTO:+0200
TZNAME:CEST
DTSTART:20240331T010000
END:DAYLIGHT
BEGIN:STANDARD
TZOFFSETFROM:+0200
TZOFFSETTO:+0100
TZNAME:CET
DTSTART:20241027T010000
END:STANDARD
BEGIN:DAYLIGHT
TZOFFSETFROM:+0100
TZOFFSETTO:+0200
TZNAME:CEST
DTSTART:20250330T010000
END:DAYLIGHT
BEGIN:STANDARD
TZOFFSETFROM:+0200
TZOFFSETTO:+0100
TZNAME:CET
DTSTART:20251026T010000
END:STANDARD
BEGIN:DAYLIGHT
TZOFFSETFROM:+0100
TZOFFSETTO:+0200
TZNAME:CEST
DTSTART:20260329T010000
END:DAYLIGHT
BEGIN:STANDARD
TZOFFSETFROM:+0200
TZOFFSETTO:+0100
TZNAME:CET
DTSTART:20261025T010000
END:STANDARD
END:VTIMEZONE
BEGIN:VEVENT
DTSTART;TZID=Europe/Amsterdam:20250105T130000
DTEND;TZID=Europe/Amsterdam:20250223T170000
DTSTAMP:20260421T191707
CREATED:20241230T145248Z
LAST-MODIFIED:20250212T082258Z
UID:11366-1736082000-1740330000@www.cultuurfabriekvoorschoten.nl
SUMMARY:Tentoonstelling ‘Het Verhaal van Voorschoten & Theo van Hoytema’
DESCRIPTION:De kunstenaar Theo van Hoytema (1863-1917) heeft in zijn jonge jaren in Voorschoten gewoond. Hij is vooral bekend door zijn kalenders en prentenboeken met vogelplaten. Op de expositie zijn daarnaast ook vazen en een stoel met door hem ontworpen decoraties te zien. Een heel persoonlijk object is een schetsboekje met tekeningen van gebouwen en straten\, als souvenir van Voorschoten. De tentoonstelling loopt t/m 23 februari 2025.
URL:https://www.cultuurfabriekvoorschoten.nl/evenement/museum-voorschoten-tentoonstelling-het-verhaal-van-voorschoten-theo-van-hoytema/
LOCATION:Museum Voorschoten\, Voorstraat 17\, Voorschoten\, Zuid-Holland\, 2251 BL\, Netherlands
CATEGORIES:Tentoonstelling
ATTACH;FMTTYPE=image/jpeg:https://www.cultuurfabriekvoorschoten.nl/wp-content/uploads/2024/12/tegel-Hoytema-002.jpg
ORGANIZER;CN="Museum Voorschoten":MAILTO:info@museumvoorschoten.nl
END:VEVENT
BEGIN:VEVENT
DTSTART;TZID=Europe/Amsterdam:20250216T143000
DTEND;TZID=Europe/Amsterdam:20250216T143000
DTSTAMP:20260421T191707
CREATED:20250212T082211Z
LAST-MODIFIED:20250213T073501Z
UID:17260-1739716200-1739716200@www.cultuurfabriekvoorschoten.nl
SUMMARY:Optreden van Die Hofstadter Musikanten
DESCRIPTION: Optreden van Die Hofstadter Musikanten met een Duits en Tsjechische Volksmuziek. 
URL:https://www.cultuurfabriekvoorschoten.nl/evenement/optreden-van-die-hofstadter-musikanten/
LOCATION:Activiteitencentrum Alettahof\, Aletta Jacobsplantsoen\, Voorschoten\, Zuid-Holland\, 2253RP\, Netherlands
CATEGORIES:Concert
ATTACH;FMTTYPE=image/jpeg:https://www.cultuurfabriekvoorschoten.nl/wp-content/uploads/2024/11/foto-Alettahof.jpg
END:VEVENT
BEGIN:VEVENT
DTSTART;TZID=Europe/Paris:20250216T160000
DTEND;TZID=Europe/Paris:20250216T160000
DTSTAMP:20260421T191707
CREATED:20250212T083606Z
LAST-MODIFIED:20250213T073411Z
UID:17271-1739721600-1739721600@www.cultuurfabriekvoorschoten.nl
SUMMARY:Inloopconcert Dorpskerk
DESCRIPTION:Het Voorschotens Kamerkoor is een gezellig koor met ongeveer dertig leden. Elke week op woensdagavond komen wij bij elkaar om ons met veel plezier te wijden aan de muziek die we in studie hebben. Dit gebeurt onder de enthousiaste en bevlogen leiding van Nico Ph. Hovius. Informatie over wat op 25 november 2025 wordt gezonden volgt later.
URL:https://www.cultuurfabriekvoorschoten.nl/evenement/inloopconcert-dorpskerk/
LOCATION:Dorpskerk Voorschoten\, Kerkplein 2\, Voorschoten\, 2251 BS\, Netherlands
CATEGORIES:Concert
ATTACH;FMTTYPE=image/jpeg:https://www.cultuurfabriekvoorschoten.nl/wp-content/uploads/2025/02/foto-Dorpskerk-Vst-21-MB-scaled-e1739349214139.jpg
ORGANIZER;CN="Protestantse Gemeente Voorschoten":MAILTO:arendjaneshuis@gmail.com
END:VEVENT
END:VCALENDAR